{"text_format":"1","workbook":"xlsx","n_sheets":2,"sheets":["申込書","Sheet2"],"not_rendered":{"charts":0,"images":1,"macros":1,"external_links":0,"defined_names":0,"comments":0,"pivot_tables":0},"unopened":[],"bounds":{"document_bytes":16777216,"sheet_cells":100000,"rows_first":2000,"rows_last":500,"rows_between":2000,"halvings":0,"cell_chars":16384,"cell_head_chars":4096},"cells_cut":0,"cells_raw":0,"read":"whole","date_system":"1900"}

{"sheet":"申込書","index":0,"n_rows":96,"n_cols":27,"rows_kept":96,"cut":false,"hidden":false,"merged":[[64,7,64,25],[5,6,20,27],[58,11,58,14],[58,15,58,20],[62,7,62,25],[63,7,63,25],[65,7,65,25],[66,7,66,25],[56,11,56,12],[56,13,56,16],[56,17,56,21],[56,22,56,26],[53,27,54,27],[54,7,54,10],[54,11,54,13],[61,7,61,25],[53,18,54,19],[53,20,54,20],[53,21,54,22],[53,23,54,23],[53,24,54,25],[53,26,54,26],[53,6,54,6],[53,7,53,10],[53,11,53,13],[51,20,52,20],[51,26,52,26],[51,27,52,27],[52,7,52,10],[52,11,52,13],[51,21,52,22],[51,23,52,23],[51,24,52,25],[51,15,52,16],[51,6,52,6],[51,7,51,10],[51,11,51,13],[51,14,52,14],[53,14,54,14],[53,15,54,16],[53,17,54,17],[51,17,52,17],[51,18,52,19],[46,23,48,23],[49,24,50,25],[49,26,50,26],[46,24,48,25],[46,26,48,26],[49,6,50,6],[49,7,49,10],[49,11,49,13],[50,7,50,10],[50,11,50,13],[46,6,48,6],[46,7,46,10],[46,11,46,13],[46,14,48,14],[46,15,48,16],[46,17,48,17],[46,18,48,19],[43,18,45,19],[43,20,45,20],[47,7,48,10],[47,11,48,13],[43,6,45,6],[46,20,48,20],[43,17,45,17],[40,27,42,27],[41,7,42,10],[41,11,42,13],[40,21,42,22],[40,23,42,23],[40,24,42,25],[46,27,48,27],[49,27,50,27],[49,20,50,20],[49,21,50,22],[49,23,50,23],[43,27,45,27],[44,7,45,10],[44,11,45,13],[43,21,45,22],[43,23,45,23],[43,24,45,25],[43,26,45,26],[49,15,50,16],[49,17,50,17],[49,14,50,14],[49,18,50,19],[46,21,48,22],[40,6,42,6],[40,7,40,10],[40,11,40,13],[40,14,42,14],[40,15,42,16],[37,15,39,16],[38,7,39,10],[38,11,39,13],[43,7,43,10],[43,11,43,13],[43,14,45,14],[43,15,45,16],[34,6,36,6],[37,26,39,26],[34,27,36,27],[31,27,33,27],[32,7,33,10],[32,11,33,13],[34,7,34,10],[34,11,34,13],[34,14,36,14],[34,15,36,16],[34,17,36,17],[34,18,36,19],[31,18,33,19],[31,20,33,20],[31,21,33,22],[31,23,33,23],[31,24,33,25],[31,26,33,26],[35,7,36,10],[35,11,36,13],[37,27,39,27],[37,6,39,6],[37,7,37,10],[37,11,37,13],[28,11,28,13],[34,24,36,25],[40,17,42,17],[40,18,42,19],[40,20,42,20],[37,24,39,25],[34,26,36,26],[37,14,39,14],[34,20,36,20],[34,21,36,22],[34,23,36,23],[37,23,39,23],[40,26,42,26],[27,14,28,20],[27,21,28,27],[37,17,39,17],[37,18,39,19],[37,20,39,20],[74,15,74,18],[21,11,21,27],[31,6,33,6],[31,7,31,10],[31,11,31,13],[31,14,33,14],[31,15,33,16],[0,6,1,27],[2,6,3,27],[23,8,23,25],[24,8,24,25],[25,7,25,27],[26,7,26,27],[31,17,33,17],[29,6,30,6],[29,7,29,13],[29,14,30,14],[29,15,30,27],[30,7,30,10],[30,11,30,13],[27,7,27,10],[27,11,27,13],[37,21,39,22],[28,7,28,10]]}
[null,null,null,null,null,null,"第２９回新潟県勤労者駅伝大会"]
[]
[null,null,null,null,null,null,"チーム参加申込書（Eメール用）"]
[]
[]
[null,null,null,null,null,null,"　　　　　　　　　　　　　　　　　　◀はじめにお読み下さい▶\n　　　　　　　　　　　　　　　 誓　　約　　書\n\n　　　　　　　　　　　　　　　　　　　　　　　　　　　　　　　　　　　　　　　　　　　　　　　　　　　　　第29回新潟県勤労者駅伝大会実行委員会\n　　　　　　　　　　　　　　　　　　　　　　　　　　　　　　　　　　　　　　　　　　　　　　　　　　　　　　　　　　　　　　実行委員長　牧野　茂夫　殿\n\n\n　私共のチームがこのたび本大会に参加するにあたり、大会中の不慮の疾患や傷害、生命に関する重大な事故なども一切、当事者の責任とし、主催者に対して何ら、ご迷惑かけません。大会当日は安全第一としてマイペースで走り、自分の健康は自分で守ります。\n\n　            　　　　　　　　　　　　　　　　　　　　　　　　　　　　　　　　　　　　　　　　　　　　　　　　　　　　　　　　　　　 以上誓約いたします。"]
[]
[]
[]
[]
[]
[]
[]
[]
[]
[]
[]
[]
[]
[]
[]
[null,null,null,null,null,null,null,null,null,null,null,"上記、誓約書を必ずお読みとりのうえ、\n同意にあたり、左記のチェックボックスをクリックし、チェックを入れてください。\n（注意！チェックがない状態では申込のための必要欄へ記入できません。）"]
[]
[null,null,null,null,null,null,"フリガナ"]
[null,null,null,null,null,null,"チーム名"]
[null,null,null,null,null,null,null,"※チーム名は１２文字以内でお願いします。"]
[null,null,null,null,null,null,"労働組合名"]
[null,null,null,null,null,null,"フ リ ガ ナ",null,null,null,null,null,null,null,"タスキの色\n(チームで持参する場合に\n右の欄に入力ください)"]
[null,null,null,null,null,null,"監　　督"]
[null,null,null,null,null,null,"選手氏名","フ　　　　　リ　　　　　ガ　　　　　ナ",null,null,null,null,null,null,"性別","生 年 月 日 （大会当日の年齢が表示されます）"]
[null,null,null,null,null,null,null,"氏",null,null,null,"名"]
[null,null,1936,"01","01",null,"１　　区\n（5.4㎞）",null,null,null,null,null,null,null,null,null,null,"年",null,null,"月",null,null,"日",{"$f":"IF(ISERROR(Sheet2!F2), \"\", Sheet2!F2)","v":""},null,"歳"]
[null,null,1937,"02","02"]
[null,null,1938,"03","03"]
[null,null,1939,"04","04",null,"２　　区\n（3.0㎞）",null,null,null,null,null,null,null,null,null,null,"年",null,null,"月",null,null,"日",{"$f":"IF(ISERROR(Sheet2!I2), \"\", Sheet2!I2)","v":""},null,"歳"]
[null,"男",1940,"05","05"]
[null,"女",1941,"06","06"]
[null,null,1942,"07","07",null,"３　　区\n（5.0㎞）",null,null,null,null,null,null,null,null,null,null,"年",null,null,"月",null,null,"日",{"$f":"IF(ISERROR(Sheet2!L2), \"\", Sheet2!L2)","v":""},null,"歳"]
[null,null,1943,"08","08"]
[null,null,1944,"09","09"]
[null,null,1945,10,10,null,"４　　区\n（3.0㎞）",null,null,null,null,null,null,null,null,null,null,"年",null,null,"月",null,null,"日",{"$f":"IF(ISERROR(Sheet2!O2), \"\", Sheet2!O2)","v":""},null,"歳"]
[null,null,1946,11,11]
[null,null,1947,12,12]
[null,null,1948,null,13,null,"５　　区\n（5.0㎞）",null,null,null,null,null,null,null,null,null,null,"年",null,null,"月",null,null,"日",{"$f":"IF(ISERROR(Sheet2!R2), \"\", Sheet2!R2)","v":""},null,"歳"]
[null,null,1949,null,14]
[null,null,1950,null,15]
[null,null,1951,null,16,null,"６　　区\n（3.0㎞）",null,null,null,null,null,null,null,null,null,null,"年",null,null,"月",null,null,"日",{"$f":"IF(ISERROR(Sheet2!U2), \"\", Sheet2!U2)","v":""},null,"歳"]
[null,null,1952,null,17]
[null,null,1953,null,18]
[null,null,1954,null,19,null,"補　　員①",null,null,null,null,null,null,null,null,null,null,"年",null,null,"月",null,null,"日",{"$f":"IF(ISERROR(Sheet2!X2), \"\", Sheet2!X2)","v":""},null,"歳"]
[null,null,1955,null,20]
[null,null,1956,null,21,null,"補　　員②",null,null,null,null,null,null,null,null,null,null,"年",null,null,"月",null,null,"日",{"$f":"IF(ISERROR(Sheet2!AA2), \"\", Sheet2!AA2)","v":""},null,"歳"]
[null,null,1957,null,22]
[null,null,1958,null,23,null,"運営委員"]
[null,null,1959,null,24]
[null,null,1960,null,25]
[null,null,1961,null,26,null,"　*大会当日の連絡先",null,null,null,null,"代表者氏名",null,null,null,null,null,"   携帯TEL番号"]
[null,null,1962,null,27]
[null,null,1963,null,28,null,null,null,null,null,null,"運営委員携帯TEL番号"]
[null,null,1964,null,29]
[null,null,1965,null,30,null,"　*特記事項"]
[null,null,1966,null,31,null,null,"*大会当日の運営委員を各チーム１名、必ず選出して下さい。"]
[null,null,1967,null,null,null,null,"　運営委員は競技中のコース管理にあたるため、補員を含む選手が兼ねることはできません。"]
[null,null,1968,null,null,null,null,"*タスキは事務局で用意しますが、持参するチームについては、欄にタスキの色を記入ください。"]
[null,null,1969,null,null,null,null,"*参加者に関する個人情報は、今回の駅伝大会の目的の範囲内で利用し、それ以外に利用したり"]
[null,null,1970,null,null,null,null,"*参加者に関する個人情報は、今回の駅伝大会の目的の範囲内で利用し、それ以外に利用したり"]
[null,null,1971,null,null,null,null,"　提供したりすることはありません。"]
[null,null,1972]
[null,null,1973]
[null,null,1974,null,null,null,"　*申込締切",null,null,"２０１９年８月２１日（水）　厳守"]
[null,null,1975,null,null,null,null,null,null,"送付先メールアドレス：",null,null,"info@niigata.jtuc-rengo.jp"]
[null,null,1976,null,null,null,null,null,null,null,null,null,null,null,null,null,"第29回新潟県勤労者駅伝大会実行委員会"]
[null,null,1977]
[null,null,1978]
[null,null,1979]
[null,null,1980]
[null,null,1981]
[null,null,1982]
[null,null,1983]
[null,null,1984]
[null,null,1985]
[null,null,1986]
[null,null,1987]
[null,null,1988]
[null,null,1989]
[null,null,1990]
[null,null,1991]
[null,null,1992]
[null,null,1993]
[null,null,1994]
[null,null,1995]
[null,null,1996]
[null,null,1997]
[null,null,1998]
[null,null,1999]
[null,null,2000]

{"sheet":"Sheet2","index":1,"n_rows":9,"n_cols":29,"rows_kept":9,"cut":false,"hidden":false,"merged":[]}
["チーム名","タスキ","構成組織","監督","１区  5.4㎞","Ａ","Ｓ","２区  3.0㎞","Ａ","Ｓ","３区  5.0㎞","Ａ","Ｓ","４区  3.0㎞","Ａ","Ｓ","５区  5.0㎞","Ａ","Ｓ","６区  3.0㎞","Ａ","Ｓ","補員","Ａ","Ｓ","補員","Ａ","Ｓ","運営委員"]
[{"$f":"申込書!I25","v":0},{"$f":"申込書!V28","v":0},null,{"$f":"申込書!H29&\" \"&申込書!L29","v":" "},{"$f":"申込書!H33&\" \"&申込書!L33","v":" "},{"$f":"DATEDIF(F4,A4,\"Y\")","v":{"$error":"#VALUE!"}},{"$f":"IF(申込書!O32=\"男\", 1, IF(申込書!O32=\"女\", 2, \"未入力\"))","v":"未入力"},{"$f":"申込書!H36&\" \"&申込書!L36","v":" "},{"$f":"DATEDIF(I4,A4,\"Y\")","v":{"$error":"#VALUE!"}},{"$f":"IF(申込書!O35=\"男\", 1, IF(申込書!O35=\"女\", 2, \"未入力\"))","v":"未入力"},{"$f":"申込書!H39&\" \"&申込書!L39","v":" "},{"$f":"DATEDIF(L4,A4,\"Y\")","v":{"$error":"#VALUE!"}},{"$f":"IF(申込書!O38=\"男\", 1, IF(申込書!O38=\"女\", 2, \"未入力\"))","v":"未入力"},{"$f":"申込書!H42&\" \"&申込書!L42","v":" "},{"$f":"DATEDIF(O4,A4,\"Y\")","v":{"$error":"#VALUE!"}},{"$f":"IF(申込書!O41=\"男\", 1, IF(申込書!O41=\"女\", 2, \"未入力\"))","v":"未入力"},{"$f":"申込書!H45&\" \"&申込書!L45","v":" "},{"$f":"DATEDIF(R4,A4,\"Y\")","v":{"$error":"#VALUE!"}},{"$f":"IF(申込書!O44=\"男\", 1, IF(申込書!O44=\"女\", 2, \"未入力\"))","v":"未入力"},{"$f":"申込書!H48&\" \"&申込書!L48","v":" "},{"$f":"DATEDIF(U4,A4,\"Y\")","v":{"$error":"#VALUE!"}},{"$f":"IF(申込書!O47=\"男\", 1, IF(申込書!O47=\"女\", 2, \"未入力\"))","v":"未入力"},{"$f":"申込書!H51&\" \"&申込書!L51","v":" "},{"$f":"DATEDIF(X4,A4,\"Y\")","v":{"$error":"#VALUE!"}},{"$f":"IF(申込書!O50=\"男\", 1, IF(申込書!O50=\"女\", 2, \"未入力\"))","v":"未入力"},{"$f":"申込書!H53&\" \"&申込書!L53","v":" "},{"$f":"DATEDIF(AA4,A4,\"Y\")","v":{"$error":"#VALUE!"}},{"$f":"IF(申込書!O52=\"男\", 1, IF(申込書!O52=\"女\", 2, \"未入力\"))","v":"未入力"},{"$f":"申込書!H55&\" \"&申込書!L55","v":" "}]
[]
["2019-09-07",null,null,null,null,{"$f":"DATEVALUE(TEXT(申込書!P32&申込書!S32&申込書!V32,\"0000!/00!/00\"))","v":{"$error":"#VALUE!"}},null,null,{"$f":"DATEVALUE(TEXT(申込書!P35&申込書!S35&申込書!V35,\"0000!/00!/00\"))","v":{"$error":"#VALUE!"}},null,null,{"$f":"DATEVALUE(TEXT(申込書!P38&申込書!S38&申込書!V38,\"0000!/00!/00\"))","v":{"$error":"#VALUE!"}},null,null,{"$f":"DATEVALUE(TEXT(申込書!P41&申込書!S41&申込書!V41,\"0000!/00!/00\"))","v":{"$error":"#VALUE!"}},null,null,{"$f":"DATEVALUE(TEXT(申込書!P44&申込書!S44&申込書!V44,\"0000!/00!/00\"))","v":{"$error":"#VALUE!"}},null,null,{"$f":"DATEVALUE(TEXT(申込書!P47&申込書!S47&申込書!V47,\"0000!/00!/00\"))","v":{"$error":"#VALUE!"}},null,null,{"$f":"DATEVALUE(TEXT(申込書!P50&申込書!S50&申込書!V50,\"0000!/00!/00\"))","v":{"$error":"#VALUE!"}},null,null,{"$f":"DATEVALUE(TEXT(申込書!P52&申込書!S52&申込書!V52,\"0000!/00!/00\"))","v":{"$error":"#VALUE!"}}]
[]
["チーム名","構成組織","代表者","代表者℡","運営委員","運営委員℡"]
[{"$f":"申込書!I25","v":0},null,{"$f":"申込書!N57","v":0},{"$f":"申込書!W57","v":0},{"$f":"申込書!H55&\" \"&申込書!L55","v":" "},{"$f":"申込書!P59","v":0}]
[]
["【注意】このシートの削除・編集等は行わないでください。"]